Workbook
Name _Hlk161427065: '様式第１号の13 PV・蓄電池・エネマネ設置計画書'!$B$25
Name _Hlk161427065: '様式第１号の14 自家消費率計算シート'!$B$24

Sheet 申請内容入力シート
A1: 申請内容
A2: 補助事業概要 | B2: 申請者情報 | C2: 申請日
C3: 郵便番号
C4: 所在地
C5: 設置場所住所
C6: 商号
C7: 代表者役職・氏名ふりがな
C8: 代表者役職・氏名
C9: 電話番号
B11: 補助事業の内容(導入設備) | C11: １つ目 | D11: - | F11: -
C12: ２つ目 | D12: - | F12: 太陽光発電設備設置事業
C13: ３つ目 | D13: - | F13: 蓄電池設置事業
D14: - | F14: エネルギーマネジメントシステム設置事業
D15: - | F15: コージェネレーションシステム設置事業
D16: - | F16: 高効率空調機器設置事業
F17: 高効率給湯機器設置事業
B18: 補助事業の予定工期 | C18: 始まり
C19: 終わり
B21: 太陽光 | C21: 補助対象経費 | D21: ='見積書（太陽光）'!G22 -> 0
C22: 補助金額 | D22: =TEXT(ROUNDDOWN(申請内容入力シート!D21*2/3,-3),"#,##0") -> 0
B23: 蓄電池 | C23: 補助対象経費 | D23: ='見積書（蓄電池）'!G22 -> 0
C24: 補助金額 | D24: =TEXT(ROUNDDOWN(申請内容入力シート!D23*2/3,-3),"#,##0") -> 0
B25: エネマネシステム | C25: 補助対象経費
C26: 補助金額
B27: エネファーム | C27: 補助対象経費
C28: 補助金額
B29: 空調 | C29: 補助対象経費 | D29: ='見積書（空調機器）'!G25 -> 0
C30: 補助金額 | D30: =TEXT(ROUNDDOWN(申請内容入力シート!D28*2/3,-3),"#,##0") -> 0
B31: 給湯 | C31: 補助対象経費
C32: 補助金額
B33: 補助対象経費合計 | D33: =D21+D23+D25+D27+D29+D31 -> 0
B34: 補助申請額合計 | D34: =D22+D24+D26+D28+D30+D32 -> 0
B35: 各種共通 | C35: 誓約日 | E35: 日付
A36: 太陽光発電設備 | C36: 製造事業者名
B37: １種類目 | C37: 型式
C38: 公称最大出力（W）
C39: 枚数
B40: ２種類目 | C40: 型式
C41: 公称最大出力（W）
C42: 枚数
...

Sheet 様式第１号の11　HV給湯器省エネ効果計算シート
H1: 様式1-5 別紙
A3: 給湯機器 CO2削減計算シート
B5: 現在の使用状況に最も近いものを選択してください
B6: 規模 | C6: 住宅(3人以下) | D6: （プルダウン）
B8: 給湯器の更新計画を入力してください
C9: 従来(更新前)機器 | E9: 更新機器
B10: ①給湯機器の種類 | C10: ガス給湯器 | E10: ハイブリッド給湯器 | G10: （プルダウン）
B11: ②メーカー | G11: （入力）
B12: ③型式 | G12: （入力）
B13: ④給湯機器効率 | C13: 0.78 | D13: ※1 | E13: 0.95 | F13: ※2 | G13: （入力）
E14: 5.6 | F14: ※3 | G14: （入力）
B15: ⑤給湯比率 | C15: ガ ス | E15: 0.23 | G15: （入力）
C16: 電気 | E16: =1-E15 -> 0.77 | G16: （自動）
B18: ＜記載のポイント＞（不明な場合は、メーカーに問い合わせ等して確認してください）
B19: ※1 ガス給湯器等の場合、エネルギー消費効率（モード熱効率）が該当します。
B20: ※2 カタログでは「貯湯ユニットガス熱源機部給湯熱効率」が該当します。
B21: ※3 カタログでは「ヒートポンプ中間期でのCOP値」が該当します。
B23: エネルギー消費量
C24: 更新前 | E24: 更新後
B25: 年間エネルギー消費量 | C25: =HV詳細試算!R16 -> 122 | D25: ㎥ | E25: =HV詳細試算!R22 -> 23 | F25: ㎥ | G25: （自動）
E26: =HV詳細試算!R23 -> 392 | F26: kWh
B28: CO2削減率
B29: ２．従来機器の年間CO2発生量 | D29: =HV詳細試算!R17 -> 795 | F29: (自動_様式記入値)
B30: ４．更新機器の年間CO2発生量 | D30: =HV詳細試算!R24 -> 296 | F30: (自動_様式記入値)
B31: ５．CO2削減率 | D31: =(1-D30/D29)*100 -> 62.767296 | F31: (自動_様式記入値)
B32: =IF(D31>=0.01,"補助事業の要件を満たしています","補助事業の要件を満たしていません") -> 補助事業の要件を満たしています

Sheet 見積書（太陽光）
C1: 件名：太陽光発電設備設置工事 | E1: 地域脱炭素移行・再エネ推進交付金実施要領 （別表１－４・対象設備）に掲げる費用
B2: 項目 | D2: 単価（単位：円） | E2: 数量 | F2: 単位 | G2: 金額（税抜き）（単位：円）
B3: 太陽光発電設備設置工事
G4: =D4*E4 -> 0
G5: =D5*E5 -> 0
G6: =D6*E6 -> 0
G7: =D7*E7 -> 0
G8: =D8*E8 -> 0
G9: =D9*E9 -> 0
G10: =D10*E10 -> 0
G11: =D11*E11 -> 0
G12: =D12*E12 -> 0
G13: =D13*E13 -> 0
G14: =D14*E14 -> 0
G15: =D15*E15 -> 0
... G19: =D19*E19 -> 0
G20: =D20*E20 -> 0 | H20: ←必要に応じて行を増やしてください。
G21: =D21*E21 -> 0
C22: 小計 | G22: =SUM(G4:G21) -> 0
C23: 消費税 | G23: =G22*0.1 -> 0
C24: 合計 | G24: =G22+G23 -> 0
C25: 交付対象事業費合計 | G25: =G22 -> 0 | H25: ←必要に応じて数式を変更してください。現状は、小計額がそのまま入ります。
C26: 交付申請額合計 | G26: =TEXT(ROUNDDOWN(G22*2/3,-3),"#,##0") -> 0

Sheet 見積書（蓄電池）
C1: 件名：蓄電池設置工事 | E1: 地域脱炭素移行・再エネ推進交付金実施要領 （別表１－４・対象設備）に掲げる費用
B2: 項目 | D2: 単価（単位：円） | E2: 数量 | F2: 単位 | G2: 金額（税抜き）（単位：円）
B3: 蓄電池設置工事
G4: =D4*E4 -> 0
G5: =D5*E5 -> 0
G6: =D6*E6 -> 0
G7: =D7*E7 -> 0
G8: =D8*E8 -> 0
G9: =D9*E9 -> 0
G10: =D10*E10 -> 0
G11: =D11*E11 -> 0
G12: =D12*E12 -> 0
G13: =D13*E13 -> 0
G14: =D14*E14 -> 0
G15: =D15*E15 -> 0
... G19: =D19*E19 -> 0
G20: =D20*E20 -> 0 | H20: ←必要に応じて行を増やしてください。
G21: =D21*E21 -> 0
C22: 小計 | G22: =SUM(G4:G21) -> 0
C23: 消費税 | G23: =G22*0.1 -> 0
C24: 合計 | G24: =G22+G23 -> 0
C25: 交付対象事業費合計 | G25: =G22 -> 0 | H25: ←必要に応じて数式を変更してください。現状は、小計額がそのまま入ります。
C26: 交付申請額合計 | G26: =TEXT(ROUNDDOWN(G22*2/3,-3),"#,##0") -> 0

Sheet 見積書（空調機器）
C1: 件名：高効率空調機器設置工事 | E1: 地域脱炭素移行・再エネ推進交付金実施要領 （別表１－４・対象設備）に掲げる費用
B2: 項目 | D2: 単価（単位：円） | E2: 数量 | F2: 単位 | G2: 金額（税抜き）（単位：円）
B3: 高効率空調機器設置工事
G4: =D4*E4 -> 0
G5: =D5*E5 -> 0
G6: =D6*E6 -> 0
G7: =D7*E7 -> 0
G8: =D8*E8 -> 0
G9: =D9*E9 -> 0
G10: =D10*E10 -> 0
G11: =D11*E11 -> 0
G12: =D12*E12 -> 0
G13: =D13*E13 -> 0
G14: =D14*E14 -> 0
G15: =D15*E15 -> 0
... G19: =D19*E19 -> 0
G20: =D20*E20 -> 0 | H20: ←必要に応じて行を増やしてください。
G21: =D21*E21 -> 0
C22: 小計 | G22: =SUM(G4:G21) -> 0
C23: 消費税 | G23: =G22*0.1 -> 0
C24: 合計 | G24: =G22+G23 -> 0
C25: 交付対象事業費合計 | G25: =G22 -> 0 | H25: ←必要に応じて数式を変更してください。現状は、小計額がそのまま入ります。
C26: 交付申請額合計 | G26: =TEXT(MIN(200000,ROUNDDOWN(G22*2/3,-3)),"#,##0") -> 0

Sheet 様式第１号の２申請書表紙
C1: 様式第１号の２（第１条関係）
E3: （事業者用）岡崎市脱炭素先行地域づくり事業費補助金交付申請書
AC6: =申請内容入力シート!D2 -> 0
C8: （宛先）岡 崎 市 長
R9: 郵便番号 | W9: =申請内容入力シート!D3 -> 0
R10: 所 在 地 | W10: =申請内容入力シート!D4 -> 0
R11: 商 号 | W11: =申請内容入力シート!D6 -> 0
R12: ふりがな | W12: =申請内容入力シート!D7 -> 0
R13: 代表者役職・氏名 | W13: =申請内容入力シート!D8 -> 0
R14: 電話番号 | W14: =申請内容入力シート!D9 -> 0
D16: 岡崎市脱炭素先行地域づくり事業費補助金について、次のとおり補助金の交付を申請します。
D18: １ 設置場所住所
D19: =" "&申請内容入力シート!D5
D21: ２ 補助事業の内容
D22: =" "&申請内容入力シート!D11 -> -
D23: =" "&申請内容入力シート!D12 -> -
D24: =" "&申請内容入力シート!D13 -> -
D26: ３ 補助事業の予定工期
E27: =申請内容入力シート!D18 -> 0 | K27: ～ | M27: =申請内容入力シート!D19 -> 0 | T27: ※令和９年３月19日までに実績報告書を提出する必要があります。
D29: ４ 交付を受けようとする市費補助金の額及びその算出根拠
D30: 交付申請額 | M30: =TEXT(ROUNDDOWN(申請内容入力シート!D34,-3),"#,##0")&"円" -> 0円
D31: 算出の基礎（交付対象事業） | M31: =TEXT(申請内容入力シート!D33,"#,##0")&"円" -> 0円 | Z31: ※値引きがある場合は値引き後の経費とする。
D33: ５ 申請書類チェックシート
D34: 提出書類（共通） | M34: □交付申請書（様式第１号の２） □補助対象設備の見積書 □対象設備を設置しようとする住宅の地図 □市税の完納証明書（納税証明書）。課税がない者又は、納税証明書の交付を受けることができない者は、納税証明書不添付理由書（コピー不可。２か月以内に発行されたもの） □履歴事項全部証明書（法人登記が無い場合は、直近の確定申告書【第一表、第二表及び収支内訳書（１・２面）または所得税青色申告決算書（１～４面）】決算期を一度も迎えていない場合のみ、申請段階で開業していることがわかる開業届の写し（税務署受付印のあるもの）） □法人所在証明書（履歴事項全部証明書等で補助対象設備を設置した所在地が確認できる場合は省略可能） □設置工事着手前の設置予定場所の現況が分かるカラー写真 □その他市長が必要と認める書類
D41: ①事業者用太陽光発電設備 | M41: □誓約書（事業者用太陽光発電設備（様式第１号の12）） □事業者用太陽光発電設備・蓄電池・エネマネ機器設置計画書（様式第１号の13） □補助対象設備の発電電力消費量計画書（様式第１号の14）
D44: ②事業者用蓄電システム | M44: □誓約書（事業者用蓄電システム（様式１号の15）） □事業者用太陽光発電設備・蓄電池・エネマネ機器設置計画書（様式第１号の13）
D46: ⑤住宅用高効率空調機器 | M46: □誓約書（事業者用高効率空調機器（様式１号の17）） □従来の空調機器等に対して省CO2効果が得られることがわかる書類（様式１号の11）
D48: 同意事項 （共通） | M48: □対象設備の設置場所は住所登録のある又は住所登録をする予定の住居である （※実績報告時には、設置場所に住民登録があることが必要） □申請者が対象設備の購入者である □設備は、商用化され、導入実績があり、中古設備でない □対象設備ついては国の通達日以前に契約の締結をしていない □期限内に実績報告書を提出できる見込みである （※事業完了日から２か月以内。ただし、２か月以内であっても令和９年３月19日が最終期限） □申請に係る現地調査について、了承する (調査時に、対象設備設置予定場所等の写真を撮る場合がある) □岡崎市暴力団排除条例（平成23年岡崎市条例第31号）第２条第２号に規定する暴力団員又は同条第１号に規定する暴力団若しくは暴力団員と密接な関係を有する者に該当しない

Sheet 様式第１号の12　太陽光誓約書
A1: 様式第１号の12（第１条関係）
B3: 誓約書（住宅太陽光発電設備）
B5: １．本事業によって得られる環境価値のうち、需要家に供給を行った電力量に紐付く環境価値を需要家に帰属させるものであること。 ２．電気事業者による再生可能エネルギー電気の調達に関する特別措置法（平成23年法律第108号。以下「再エネ特措法」という。）に基づく固定価格買取制度（以下「FIT」という。）の認定又はFIP(FeedinPremium)制度の認定を取得しないこと。また、国が実施するその他の補助制度を利用していないこと。 ３．電気事業法第２条第１項第５号ロに定める接続供給（自己託送）を行わないものであること。 ４．再エネ特措法に基づく「事業計画策定ガイドライン（太陽光発電）」（資源エネルギー庁）に定める遵守事項等に準拠して事業を実施すること（ただし、専らFITの認定を受けた者に対するものを除く。)。特に、次の（a）～（i）をすべて遵守していることを確認すること。 （a）地域住民や地域の自治体と適切なコミュニケーションを図るとともに、地域住民に十分配慮して事業を実施するよう努めること。 （b）関係法令及び条例の規定に従い、土地開発等の設計・施工を行うこと。 （c）防災、環境保全、景観保全を考慮し交付対象設備の設計を行うよう努めること。 （d）一の場所において、設備を複数の設備に分割したものでないこと。 （e）20kW以上の太陽光発電設備の場合、発電設備を囲う柵塀を設置するとともに、柵塀等の外側の見えやすい場所に標識（交付対象事業者の名称・代表者氏名・住所・連絡先電話番号、保守点検責任者の名称・氏名・住所・連絡先電話番号、運転開始年月日、本交付金により設置した旨を記載したもの）を掲示すること。 （f）電気事業法の規定に基づく技術基準適合義務,立入検査,報告徴収に対する資料の提出に対応するため,発電設備の設計図書や竣工試験データを含む完成図書を作成し,適切な方法で管理及び保存すること。 （g）設備の設置後、適切な保守点検及び維持管理を実施すること。 （h）接続契約を締結している一般送配電事業者又は特定送配電事業者から国が定める出力制御の指針に基づいた出力制御の要請を受けたときは、適切な方法により協力すること。 （i）防災、環境保全、景観保全の観点から計画段階で予期しなかった問題が生じた場合、適切な対策を講じ、災害防止や自然破壊、近隣への配慮を行うよう努めること。 （j）補助対象設備を処分する際は，関係法令（岡崎市条例を含む。）の規定を遵守すること。 （k）10kW以上の太陽光発電設備の場合、交付対象設備の解体・撤去等に係る廃棄等費用について、「廃棄等費用積立ガイドライン」（資源エネルギー庁）を参考に、必要な経費を算定し、積立等の方法により確保する計画を策定し、その計画に従い適切な経費の積立等を行い、発電事業の終了時において、適切な廃棄・リサイクルを実施すること。 （l）10kW以上の太陽光発電設備の場合、災害等による撤去及び処分に備えた火災保険や地震保険、第三者賠償保険等に加入するよう努めること。
B53: ５．需要家の敷地内に本事業により導入する再エネ発電設備で発電して消費する電力量を、当該再エネ発電設備で発電する電力量の30％以上とすること。 ６．整備する設備は、商用化され、導入実績があるものであること。また、中古設備は、原則、交付対象外とする。 ７．法定耐用年数を経過するまでの間、交付対象事業により取得した温室効果ガス排出削減効果についてJ-クレジット制度への登録を行わないこと。 ８．発電量は、太陽光モジュールにおけるJIS等に基づく公称最大出力の合計値と、パワーコンディショナーの定格規格の合計値の低い方とし、10kW未満の設備であること。 ９．施行前後の写真を添付すること。 10．当該年度の３月19日までに支払いを含めて事業を完了させること。 11．岡崎市脱炭素先行地域づくり事業費補助金交付要綱を遵守すること。また，当該交付要綱を遵守しないことにより補助金の交付決定が取り消されても，岡崎市に対し異議を申し立てないこと。 12．交付決定の取り消しに伴う補助金の返還や財産処分等により財産処分納付金が発生した場合には，遅滞なく岡崎市の指示に従い返還、納付すること。
C93: 私は、岡崎市脱炭素先行地域づくり事業費補助金の交付を受けるに当たり、上記の項目について了承し、遵守することを誓います。
C96: =申請内容入力シート!D35 -> 0
P98: 氏名 | T98: =申請内容入力シート!D8 -> 0

Sheet 様式第１号の13　PV・蓄電池・エネマネ設置計画書
A1: 様式第１号の４（第１条関係）
A3: 住宅用太陽光発電設備・蓄電池・エネマネ機器設置計画書
B5: ①太陽光発電設備概要
B6: 太陽電池モジュール
B7: 製造事業者名 | M7: =IF(申請内容入力シート!D36=0, "", 申請内容入力シート!D36)
B8: ① | D8: 型式 | G8: =IF(申請内容入力シート!D37=0, "", 申請内容入力シート!D37) | Q8: 公称最大出力 | X8: =申請内容入力シート!D38&"W" -> W | AE8: 枚数 | AH8: =申請内容入力シート!D39&"枚" -> 枚
B9: ② | D9: 型式 | G9: =IF(申請内容入力シート!D40=0, "", 申請内容入力シート!D40) | Q9: 公称最大出力 | X9: =申請内容入力シート!D41&"W" -> W | AE9: 枚数 | AH9: =申請内容入力シート!D42&"枚" -> 枚
B10: ③ | D10: 型式 | G10: =IF(申請内容入力シート!D43=0, "", 申請内容入力シート!D43) | Q10: 公称最大出力 | X10: =申請内容入力シート!D44&"W" -> W | AE10: 枚数 | AH10: =申請内容入力シート!D45&"枚" -> 枚
B11: ④ | D11: 型式 | G11: =IF(申請内容入力シート!D46=0, "", 申請内容入力シート!D46) | Q11: 公称最大出力 | X11: =申請内容入力シート!D47&"W" -> W | AE11: 枚数 | AH11: =申請内容入力シート!D48&"枚" -> 枚
B12: 太陽電池の最大出力 ①～④の合計(小数点以下３位を切り捨て) | AE12: =申請内容入力シート!D49&"kW" -> 0kW
B13: (財)電気安全環境研究所(JET)の認証 | U13: =IF(申請内容入力シート!D50=0, "", 申請内容入力シート!D50)
B14: 他の機関による認証 | U14: =IF(申請内容入力シート!D51=0, "", 申請内容入力シート!D51) | X14: =IF(申請内容入力シート!D52=0, "", 申請内容入力シート!D52)
B15: インバーター・保護装置 （PCS） | P15: 製造 事業者名 | U15: =IF(申請内容入力シート!D53=0, "", 申請内容入力シート!D53)
P17: 型式 | U17: =IF(申請内容入力シート!D54=0, "", 申請内容入力シート!D54)
P19: 定格規格出力 | Z19: =IF(申請内容入力シート!D55=0, "", 申請内容入力シート!D55) | AJ19: kW
P21: (財)電気安全環境研究所 (JET)の認証 | AC21: =IF(申請内容入力シート!D56=0, "", 申請内容入力シート!D56)
P23: 他の機関による認証 | AC23: =IF(申請内容入力シート!D57=0, "", 申請内容入力シート!D57) | AE23: =IF(申請内容入力シート!D58=0, "", 申請内容入力シート!D58)
B25: ※様式第１号の１（住宅用）岡崎市脱炭素先行地域づくり事業費補助金交付申請書の交付申請額算出の基礎①には、太陽電池モジュールにおけるJIS等に基づく公称最大出力の合計値と、パワーコンディショナーの定格規格出力の合計値の低い方を用いて計算すること。
B30: ②蓄電地概要
B31: 製造事業者名 | M31: =IF(申請内容入力シート!D60=0, "", 申請内容入力シート!D60)
B33: 型式・型番 | G33: =IF(申請内容入力シート!D61=0, "", 申請内容入力シート!D61) | X33: 公称最大出力 | AE33: =申請内容入力シート!D62&"kWh" -> kWh
B35: PCS出力 | G35: =申請内容入力シート!D63&"kW" -> kW
B37: ※既に太陽光発電設備が設置されている場合は、太陽光発電設備概要の太陽電池の最大出力、PCSの内容を入力すること。
B41: ③エネルギーマネジメントシステム
B42: 製造事業者名 | M42: =IF(申請内容入力シート!D64=0, "", 申請内容入力シート!D64)
B44: 型式・型番 | M44: =IF(申請内容入力シート!D65=0, "", 申請内容入力シート!D65)

Sheet 様式第１号の14　自家消費率計算シート
A1: 様式第１号の14（第１条関係）
A3: 発電電力消費量計画書
B5: ① 自家消費率【見込み】（③÷②） | Z5: =AB11/AB10 -> #DIV/0!
B7: 導入する太陽光発電設備の出力 | U7: =申請内容入力シート!D49 -> 0 | AL7: kW
B8: 蓄電池の同時設置
B10: ② 補助対象設備の年間発電量【見込み】（③+④） | AB10: =U7*1200 -> 0 | AL10: kWh
B11: ③ 自家消費量（②のうち） | AB11: =申請内容入力シート!D59 -> 0 | AL11: kWh
B12: ④ 売電料（②のうち） | AB12: =AB10-AB11 -> 0 | AL12: kWh
B14: 様式第１号の14を使用せずに設置業者が作成した資料、メーカーHPのシミュレーション結果等の別計算資料により計算を行った資料を用いる場合は、下チェックボックスにチェックしてください。その場合、本計画書の①～④の内容が記載されていること。 □ 別紙による
B21: 【留意事項】 ・①の自家消費率が50％以上となることが補助要件になります。 ・設備稼働後の「発電量等の報告」において，自家消費率が50％未満の場合は，補助金を返還していただく可能性があります。 ・電力需要量を考慮し，過度な規模の設置は控えるとともに，蓄電池の併用を検討するなど，自家消費率50％以上をゆとりを持って達成できる計画としてください。

Sheet 様式第１号の15　蓄電池誓約書
A1: 様式第１号の15（第１条関係）
B3: 誓約書（蓄電池）
B5: １．整備する設備は、商用化され、導入実績があるものであること。また、中古設備は、原則、交付対象外とする。 ２．補助対象事業の実施に伴い、国が実施するその他の補助制度を利用していないこと。 ３．法定耐用年数を経過するまでの間、交付対象事業により取得した温室効果ガス排出削減効果についてJ-クレジット制度への登録を行わないこと。 ４．原則として再エネ発電設備によって発電した電気を蓄電するものであり、平時において充放電を繰り返すことを前提とした設備とすること。 ５．停電時のみに利用する非常用予備電源でないこと。 ６．導入する蓄電システムが【業務用蓄電池（20kWh以上）である場合、岡崎市火災予防条例に基づき、必要に応じて設置届出書を提出すること。 ７．【家庭用蓄電池（20kWh未満）：afの全てを満たすこと】 （a）蓄電池パッケージ 蓄電池部（初期実効容量1.0kWh以上）とパワーコンディショナー等の電力変換装置から構成されるシステムであり、蓄電システム本体機器を含むシステム全体を一つのパッケージとして取り扱うものであること。 ※初期実効容量は、JEM規格で定義された初期実効容量のうち、計算値と計測値のいずれか低い方を適用する。 ※システム全体を統合して管理するための番号が付与されていること。 （b）性能表示基準 初期実効容量、定格出力、出力可能時間、保有期間、廃棄方法、アフターサービス等について、所定の表示がなされていること。所定の表示は次のものをいう。 （1）初期実効容量 製造業者が指定する、工場出荷時の蓄電システムの放電時に供給可能な交流側の出力容量のこと。使用者が独自に指定できない領域は含まない。（算出方法については、一般社団法人日本電機工業会日本電機工業会規格「JEM1511低圧蓄電システムの初期実効容量算出方法」を参照すること） （2）定格出力 定格出力とは、蓄電システムが連続して出力を維持できる製造事業者が指定する最大出力とする。定格出力の単位はW、kW、MWのいずれかとする。 （3）出力可能時間の例示 ①複数の運転モードをもち、各モードでの最大の連続出力（W）と出力可能時間（h）の積で規定される容量（Wh）が全てのモードで同一でない場合、出力可能時間を代表的なモードで少なくとも一つ例示しなければならない。出力可能時間とは、蓄電システムを、指定した一定出力にて運転を維持できる時間とする。このときの出力の値は製造事業者指定の値でよい。 ②購入設置者の機器選択を助ける情報として、代表的な出力における出力可能時間を例示することを認める。例示は、出力と出力可能時間を表示すること。出力の単位はW、kW、MWのいずれかとする。出力可能時間の単位は分とし、出力可能時間が10分未満の場合は、1分刻みで表示すること。出力可能時間が10分以上の場合は、5分刻みの切り捨てとする。また、運転モード等により出力可能時間が異なる場合は、運転モード等を明確にすること。
B53: ただし、蓄電システムの運転に当たって、補器類の作動に外部からの電力が必要な蓄電システムについては、その電力の合計も併せて記載すること。単位はW、kW、MWのいずれかとする。 （4）保有期間 法定耐用年数の期間、適正な管理・運用を図ること。（5）廃棄方法 使用済み蓄電池を適切に廃棄、又は回収する方法について登録対象機器の添付書類に明記されていること。蓄電池部分が分離されるものについては、蓄電池部の添付書類に明記されていること。 （6）アフターサービス 国内のアフターサービス窓口の連絡先について、登録対象機器の添付書類に明記されていること。 （c）蓄電池部安全基準 JISC8715－2又はIEC62619の規格を満足すること。 （d）蓄電システム部安全基準（リチウムイオン蓄電池部を使用した蓄電システムのみ） JISC4412の規格を満足すること。ただし、電気製品認証協議会が定めるJISC4412適用の猶予期間中は、JISC4412－1若しくはJISC4412－2※の規格も可とする。 ※JISC4412-2における要求事項の解釈等等は「電気用品の技術基準の解釈別表第八」に準拠すること。 （e）震災対策基準（リチウムイオン蓄電池部を使用した蓄電システムのみ） 蓄電容量10kWh未満の蓄電池は、第三者認証機関の製品審査により、「蓄電システムの震災対策基準」の製品審査に合格したものであること。 ※第三者認証機関は、電気用品安全法国内登録検査機関であること、かつ、IECEE-CB制度に基づく国内認証機関（NCB）であること。 （f）保証期間 メーカー保証及びサイクル試験による性能の双方が10年以上の蓄電システムであること。 ※蓄電システムの製造を製造事業者に委託し、自社の製品として販売する事業者も含む。 ※当該機器製造事業者以外の保証（販売店保証等）は含めない。 ※メーカー保証期間内の補償費用は無償であることを条件とする。 ※蓄電容量は、単電池の定格容量、単電池の公称電圧及び使用する単電池の数の積で算出される蓄電池部の容量とする。 ※JEM規格で定義された初期実効容量（計算値と計測値のいずれか低い方）が1.0kWh未満の蓄電システムは対象外とする。 ８．当該年度の３月19日までに支払いを含めて事業を完了させること。 ９．岡崎市脱炭素先行地域づくり事業費補助金交付要綱を遵守すること。また，当該交付要綱を遵守しないことにより補助金の交付決定が取り消されても，岡崎市に対し異議を申し立てないこと。
B102: 10．交付決定の取り消しに伴う補助金の返還や財産処分等により財産処分納付金が発生した場合には，遅滞なく岡崎市の指示に従い返還，納付すること。 11．設置する箇所は店舗や事務所・賃貸住宅などどして使用する収益を得るための事業部分が合わさった建物ではなく、また、個人で継続して事業を営む個人事業主ではない。
C138: 私は、岡崎市脱炭素先行地域づくり事業費補助金の交付を受けるに当たり、上記の項目について了承し、遵守することを誓います。
C141: =申請内容入力シート!D35 -> 0
P143: 氏名 | T143: =申請内容入力シート!D8 -> 0

Sheet 様式第１号の16　空調誓約書
A1: 様式第１号の16（第１条関係）
B3: 誓約書（高効率空調機器）
B5: １．整備する設備は、商用化され、導入実績があるものであること。また、中古設備は、原則、交付対象外とする。 ２．法定耐用年数を経過するまでの間、交付対象事業により取得した温室効果ガス排出削減効果についてJ-クレジット制度への登録を行わないこと。 ３．対象施設内に設置するものであり、従来の空調機器等に対して省CO2効果が得られるもの。 ４．当該年度の３月19日までに支払いを含めて事業を完了させること。 ５．岡崎市脱炭素先行地域づくり事業費補助金交付要綱を遵守すること。また，当該交付要綱を遵守しないことにより補助金の交付決定が取り消されても，岡崎市に対し異議を申し立てないこと。 ６．交付決定の取り消しに伴う補助金の返還や財産処分等により財産処分納付金が発生した場合には，遅滞なく岡崎市の指示に従い返還、納付すること。
C41: 私は、岡崎市脱炭素先行地域づくり事業費補助金の交付を受けるに当たり、上記の項目について了承し、遵守することを誓います。
C44: =申請内容入力シート!D35 -> 0
P46: 氏名 | T46: =申請内容入力シート!D8 -> 0

Sheet 様式第１号の11　空調機器省エネ効果計算
H1: 様式第1-11
B2: 空調設備 CO2削減計算シート
B4: 空調設備の更新計画を入力してください
C5: 従来(更新前)機器 | E5: 更新機器
B6: ①メーカー | C6: =申請内容入力シート!D66 -> 0 | E6: =申請内容入力シート!D72 -> 0 | G6: （入力）
B7: ②型式 | C7: =申請内容入力シート!D67 -> 0 | E7: =申請内容入力シート!D73 -> 0 | G7: （入力）
B8: ③消費電力(冷房) | C8: =申請内容入力シート!D68 -> 0 | D8: ※1 | E8: =申請内容入力シート!D74 -> 0 | F8: ※1 | G8: （入力）
B9: 消費電力(暖房) | C9: =申請内容入力シート!D69 -> 0 | E9: =申請内容入力シート!D75 -> 0 | G9: （入力）
B10: ④力率(冷房) | C10: =申請内容入力シート!D70 -> 0 | E10: =申請内容入力シート!D76 -> 0 | G10: （入力）
B11: ④力率(暖房) | C11: =申請内容入力シート!D71 -> 0 | E11: =申請内容入力シート!D77 -> 0 | G11: （入力）
B13: 〈注意事項〉
B14: ※1 カタログ等で確認し入力ください。
B15: （④力率が不明な場合は、入力不要）
B17: CO2削減率
B18: ２．従来機器の年間CO2発生量 | D18: =空調機器詳細試算!R16 -> 0 | F18: (自動_様式記入値)
B19: ４．更新機器の年間CO2発生量 | D19: =空調機器詳細試算!R20 -> 0 | F19: (自動_様式記入値)
B20: ５．CO2削減率 | D20: =(1-D19/D18)*100 -> #DIV/0! | F20: (自動_様式記入値)
B21: =IF(D20>=0.01,"補助事業の要件を満たしています","補助事業の要件を満たしていません") -> #DIV/0!

Sheet 様式第８号の２　実績報告書
C1: 様式第８号の２（第５条関係）
E3: （事業者用）岡崎市脱炭素先行地域づくり事業費補助金実績報告書
AC6: =申請内容入力シート!D88 -> 0
C8: （宛先）岡 崎 市 長
R9: 郵便番号 | W9: =申請内容入力シート!D3 -> 0
R10: 所 在 地 | W10: =申請内容入力シート!D4 -> 0
R11: 商 号 | W11: =申請内容入力シート!D6 -> 0
R12: ふりがな | W12: =申請内容入力シート!D7 -> 0
R13: 代表者役職・氏名 | W13: =申請内容入力シート!D8 -> 0
R14: 電話番号 | W14: =申請内容入力シート!D9 -> 0
D16: =" "&TEXT(申請内容入力シート!D89, "ggge年m月d日")&"付け８岡崎市指令ゼ第50号-"&申請内容入力シート!D90&"で岡崎市脱炭素先行地域づくり事業費補助金の交付決定がありました事業は、次のとおり完了しました。" -> 明治33年1月0日付け８岡崎市指令ゼ第50号-で岡崎市脱炭素先行地域づくり事業費補助金の交付決定がありました事業は、次のとおり完了しました。
D19: １ 市費補助金の交付決定額
D20: =TEXT(ROUNDDOWN(申請内容入力シート!D91,-3),"#,##0")&"円" -> 0円
D22: ２ 事業完了日
D23: =申請内容入力シート!D92 -> 0
D25: ３ 交付金額
D26: =TEXT(ROUNDDOWN(申請内容入力シート!D93,-3),"#,##0")&"円" -> 0円
D28: ４ 申請書類チェックシート
D29: 提出書類（共通） | M29: □実績報告書（様式第８号の２） □収支精算書 □設置した建物全体のカラー写真 □設置工事後の設置箇所のカラー写真（本補助事業で導入した設備・機器、ケーブル類等補助対象となっているもの） □対象設備設置費に係る領収書の写しまたは領収証明書(補助対象経費と同じ金額であること) □岡崎産再エネ電気の電力供給契約がわかる書類等の写し □その他市長が必要と認める書類
D36: ①事業者用太陽光発電設備 | M36: □電力の売買に係る契約書の写し （余剰電力を売電しない場合など契約書が無い場合は、電力会社との契約や協議結果を確認できる書類の写し） □事業者用太陽光発電設備設置計画書（様式第１号の13） □対象設備設置工事に係る工事請負契約書の写し ※申請時点において①住宅用太陽光発電設備②住宅用蓄電システムに係る工事請負契約書を提出している場合、その内容に変更が無い場合は、省略することができる □対象設備の保証書の写し(型式、お客様名、保証開始日等、全て記入されているもの)
D44: ②事業者用蓄電システム | M44: □対象設備設置工事に係る工事請負契約書の写し □対象設備の保証書の写し(型式、お客様名、保証開始日等、全て記入されているもの)
D46: ③事業者用高効率空調機器 | M46: □高効率空調の設置状態が確認できること □本体に添付されている銘板(製造番号が確認できることとし、銘板にて確認できない場合は確認できるものを添付すること)

Sheet 様式第10号　請求書
A1: 様式第10号
R2: 請求番号
H4: 請 求 書
T6: 令和 年 月 日
C7: （宛先）岡崎市長
C9: 請 求 金 額 | I9: ¥ | K9: =申請内容入力シート!D93 -> 0 | P9: ★
D13: 岡崎市脱炭素先行地域づくり事業費補助金として、上記金額を請求します。
D15: 下記口座へ振り込み願います。
G19: （金融機関名） | N19: （本・支店名）
D20: 送り先 | G20: =申請内容入力シート!D94 -> 0 | N20: =申請内容入力シート!D95 -> 0
D22: 預金種別 | G22: =申請内容入力シート!D96 -> 0 | J22: 口座番号 | N22: =申請内容入力シート!D97 -> 0
D24: フリガナ | G24: =申請内容入力シート!D98 -> 0
D26: 受取人 | G26: =申請内容入力シート!D99 -> 0
D27: 口座名義
G29: 所在地 | L29: =申請内容入力シート!D4 -> 0
G30: 商 号 | L30: =申請内容入力シート!D7 -> 0
G31: 代表者役職・氏名 | L31: =申請内容入力シート!D8 -> 0
D33: 受取方法
D34: １．口座振込（登録済・未登録） ２．その他（ ）
B36: ※ 請求金額はアラビア数字記入し、頭部に￥字を冠し、末尾は★印等でとめる。
B37: ※ 請求金額の訂正は不可とする。
B38: ※ 請求内訳等別紙を必要とする場合は、割印をすること。

Sheet 収支精算書（太陽光）
C1: 件名：太陽光発電設備設置工事 収支精算書
B2: 項目 | E2: 金額（税抜き）（単位：円）
B3: 太陽光発電設備設置工事 | D3: 見積額 | E3: 精算額
C4: =IF('見積書（太陽光）'!C4=0, "", '見積書（太陽光）'!C4) | D4: =IF('見積書（太陽光）'!G4=0, "", '見積書（太陽光）'!G4) | E4: =D4
C5: =IF('見積書（太陽光）'!C5=0, "", '見積書（太陽光）'!C5) | D5: =IF('見積書（太陽光）'!G5=0, "", '見積書（太陽光）'!G5) | E5: =D5
C6: =IF('見積書（太陽光）'!C6=0, "", '見積書（太陽光）'!C6) | D6: =IF('見積書（太陽光）'!G6=0, "", '見積書（太陽光）'!G6) | E6: =D6
C7: =IF('見積書（太陽光）'!C7=0, "", '見積書（太陽光）'!C7) | D7: =IF('見積書（太陽光）'!G7=0, "", '見積書（太陽光）'!G7) | E7: =D7
C8: =IF('見積書（太陽光）'!C8=0, "", '見積書（太陽光）'!C8) | D8: =IF('見積書（太陽光）'!G8=0, "", '見積書（太陽光）'!G8) | E8: =D8
C9: =IF('見積書（太陽光）'!C9=0, "", '見積書（太陽光）'!C9) | D9: =IF('見積書（太陽光）'!G9=0, "", '見積書（太陽光）'!G9) | E9: =D9
C10: =IF('見積書（太陽光）'!C10=0, "", '見積書（太陽光）'!C10) | D10: =IF('見積書（太陽光）'!G10=0, "", '見積書（太陽光）'!G10) | E10: =D10
C11: =IF('見積書（太陽光）'!C11=0, "", '見積書（太陽光）'!C11) | D11: =IF('見積書（太陽光）'!G11=0, "", '見積書（太陽光）'!G11) | E11: =D11
C12: =IF('見積書（太陽光）'!C12=0, "", '見積書（太陽光）'!C12) | D12: =IF('見積書（太陽光）'!G12=0, "", '見積書（太陽光）'!G12) | E12: =D12
C13: =IF('見積書（太陽光）'!C13=0, "", '見積書（太陽光）'!C13) | D13: =IF('見積書（太陽光）'!G13=0, "", '見積書（太陽光）'!G13) | E13: =D13
C14: =IF('見積書（太陽光）'!C14=0, "", '見積書（太陽光）'!C14) | D14: =IF('見積書（太陽光）'!G14=0, "", '見積書（太陽光）'!G14) | E14: =D14
C15: =IF('見積書（太陽光）'!C15=0, "", '見積書（太陽光）'!C15) | D15: =IF('見積書（太陽光）'!G15=0, "", '見積書（太陽光）'!G15) | E15: =D15
... C21: =IF('見積書（太陽光）'!C21=0, "", '見積書（太陽光）'!C21) | D21: =IF('見積書（太陽光）'!G21=0, "", '見積書（太陽光）'!G21) | E21: =D21
C22: 小計 | E22: =SUM(E4:E21) -> 0
C23: 消費税 | E23: =E22*0.1 -> 0
C24: 合計 | E24: =E22+E23 -> 0
C25: 交付対象事業費合計 | E25: =E22 -> 0
C26: 交付申請額（補助金額） | E26: =TEXT(ROUNDDOWN(E22*2/3,-3),"#,##0") -> 0

Sheet 収支精算書（蓄電池）
C1: 件名：蓄電池設置工事 収支精算書
B2: 項目 | E2: 金額（税抜き）（単位：円）
B3: 蓄電池設置工事 | D3: 見積額 | E3: 精算額
C4: =IF('見積書（蓄電池）'!C4=0, "",'見積書（蓄電池）'!C4) | D4: =IF('見積書（蓄電池）'!G4=0, "",'見積書（蓄電池）'!G4) | E4: =D4
C5: =IF('見積書（蓄電池）'!C5=0, "",'見積書（蓄電池）'!C5) | D5: =IF('見積書（蓄電池）'!G5=0, "",'見積書（蓄電池）'!G5) | E5: =D5
C6: =IF('見積書（蓄電池）'!C6=0, "",'見積書（蓄電池）'!C6) | D6: =IF('見積書（蓄電池）'!G6=0, "",'見積書（蓄電池）'!G6) | E6: =D6
C7: =IF('見積書（蓄電池）'!C7=0, "",'見積書（蓄電池）'!C7) | D7: =IF('見積書（蓄電池）'!G7=0, "",'見積書（蓄電池）'!G7) | E7: =D7
C8: =IF('見積書（蓄電池）'!C8=0, "",'見積書（蓄電池）'!C8) | D8: =IF('見積書（蓄電池）'!G8=0, "",'見積書（蓄電池）'!G8) | E8: =D8
C9: =IF('見積書（蓄電池）'!C9=0, "",'見積書（蓄電池）'!C9) | D9: =IF('見積書（蓄電池）'!G9=0, "",'見積書（蓄電池）'!G9) | E9: =D9
C10: =IF('見積書（蓄電池）'!C10=0, "",'見積書（蓄電池）'!C10) | D10: =IF('見積書（蓄電池）'!G10=0, "",'見積書（蓄電池）'!G10) | E10: =D10
C11: =IF('見積書（蓄電池）'!C11=0, "",'見積書（蓄電池）'!C11) | D11: =IF('見積書（蓄電池）'!G11=0, "",'見積書（蓄電池）'!G11) | E11: =D11
C12: =IF('見積書（蓄電池）'!C12=0, "",'見積書（蓄電池）'!C12) | D12: =IF('見積書（蓄電池）'!G12=0, "",'見積書（蓄電池）'!G12) | E12: =D12
C13: =IF('見積書（蓄電池）'!C13=0, "",'見積書（蓄電池）'!C13) | D13: =IF('見積書（蓄電池）'!G13=0, "",'見積書（蓄電池）'!G13) | E13: =D13
C14: =IF('見積書（蓄電池）'!C14=0, "",'見積書（蓄電池）'!C14) | D14: =IF('見積書（蓄電池）'!G14=0, "",'見積書（蓄電池）'!G14) | E14: =D14
C15: =IF('見積書（蓄電池）'!C15=0, "",'見積書（蓄電池）'!C15) | D15: =IF('見積書（蓄電池）'!G15=0, "",'見積書（蓄電池）'!G15) | E15: =D15
... C21: =IF('見積書（蓄電池）'!C21=0, "",'見積書（蓄電池）'!C21) | D21: =IF('見積書（蓄電池）'!G21=0, "",'見積書（蓄電池）'!G21) | E21: =D21
C22: 小計 | E22: =SUM(E4:E21) -> 0
C23: 消費税 | E23: =E22*0.1 -> 0
C24: 合計 | E24: =E22+E23 -> 0
C25: 交付対象事業費合計 | E25: =E22 -> 0
C26: 交付申請額（補助金額） | E26: =TEXT(ROUNDDOWN(E22*2/3,-3),"#,##0") -> 0

Sheet 収支精算書（空調機器）
C1: 件名：空調機器設置工事 収支精算書
B2: 項目 | E2: 金額（税抜き）（単位：円）
B3: 空調機器設置工事 | D3: 見積額 | E3: 精算額
C4: =IF('見積書（空調機器）'!C4=0, "",'見積書（空調機器）'!C4) | D4: =IF('見積書（空調機器）'!G4=0, "",'見積書（空調機器）'!G4) | E4: =D4
C5: =IF('見積書（空調機器）'!C5=0, "",'見積書（空調機器）'!C5) | D5: =IF('見積書（空調機器）'!G5=0, "",'見積書（空調機器）'!G5) | E5: =D5
C6: =IF('見積書（空調機器）'!C6=0, "",'見積書（空調機器）'!C6) | D6: =IF('見積書（空調機器）'!G6=0, "",'見積書（空調機器）'!G6) | E6: =D6
C7: =IF('見積書（空調機器）'!C7=0, "",'見積書（空調機器）'!C7) | D7: =IF('見積書（空調機器）'!G7=0, "",'見積書（空調機器）'!G7) | E7: =D7
C8: =IF('見積書（空調機器）'!C8=0, "",'見積書（空調機器）'!C8) | D8: =IF('見積書（空調機器）'!G8=0, "",'見積書（空調機器）'!G8) | E8: =D8
C9: =IF('見積書（空調機器）'!C9=0, "",'見積書（空調機器）'!C9) | D9: =IF('見積書（空調機器）'!G9=0, "",'見積書（空調機器）'!G9) | E9: =D9
C10: =IF('見積書（空調機器）'!C10=0, "",'見積書（空調機器）'!C10) | D10: =IF('見積書（空調機器）'!G10=0, "",'見積書（空調機器）'!G10) | E10: =D10
C11: =IF('見積書（空調機器）'!C11=0, "",'見積書（空調機器）'!C11) | D11: =IF('見積書（空調機器）'!G11=0, "",'見積書（空調機器）'!G11) | E11: =D11
C12: =IF('見積書（空調機器）'!C12=0, "",'見積書（空調機器）'!C12) | D12: =IF('見積書（空調機器）'!G12=0, "",'見積書（空調機器）'!G12) | E12: =D12
C13: =IF('見積書（空調機器）'!C13=0, "",'見積書（空調機器）'!C13) | D13: =IF('見積書（空調機器）'!G13=0, "",'見積書（空調機器）'!G13) | E13: =D13
C14: =IF('見積書（空調機器）'!C14=0, "",'見積書（空調機器）'!C14) | D14: =IF('見積書（空調機器）'!G14=0, "",'見積書（空調機器）'!G14) | E14: =D14
C15: =IF('見積書（空調機器）'!C15=0, "",'見積書（空調機器）'!C15) | D15: =IF('見積書（空調機器）'!G15=0, "",'見積書（空調機器）'!G15) | E15: =D15
... C21: =IF('見積書（空調機器）'!C21=0, "",'見積書（空調機器）'!C21) | D21: =IF('見積書（空調機器）'!G21=0, "",'見積書（空調機器）'!G21) | E21: =D21
C22: 小計 | E22: =SUM(E4:E21) -> 0
C23: 消費税 | E23: =E22*0.1 -> 0
C24: 合計 | E24: =E22+E23 -> 0
C25: 交付対象事業費合計 | E25: =E22 -> 0
C26: 交付申請額（補助金額） | E26: =TEXT(ROUNDDOWN(E22*2/3,-3),"#,##0") -> 0

Sheet 空調機器詳細試算
B1: ■ エネルギー使用想定
E2: 換算係数 | I2: 機器効率（計算シート入力値） | M2: 負荷（9時間/日運転）
F3: CO2排出換算係数 | I3: 更新前 | J3: ='様式第１号の11 空調機器省エネ効果計算'!C8 -> 0 | K3: =IF('様式第１号の11 空調機器省エネ効果計算'!C10>0,'様式第１号の11 空調機器省エネ効果計算'!C10,1) -> 1 | N3: 更新前 | O3: 更新後
E4: 電力 | F4: 0.37 | G4: kg-CO2/kWh | J4: ='様式第１号の11 空調機器省エネ効果計算'!C9 -> 0 | K4: =IF('様式第１号の11 空調機器省エネ効果計算'!C11>0,'様式第１号の11 空調機器省エネ効果計算'!C11,1) -> 1 | M4: 中間期 | N4: =0*9/1000 -> 0 | O4: =0*9/1000 -> 0
I5: 更新後 | J5: ='様式第１号の11 空調機器省エネ効果計算'!E8 -> 0 | K5: =IF('様式第１号の11 空調機器省エネ効果計算'!E10>0,'様式第１号の11 空調機器省エネ効果計算'!E10,1) -> 1 | M5: 冷房 | N5: =J3*9/1000 -> 0 | O5: =J5*9/1000 -> 0
J6: ='様式第１号の11 空調機器省エネ効果計算'!E9 -> 0 | K6: =IF('様式第１号の11 空調機器省エネ効果計算'!E11>0,'様式第１号の11 空調機器省エネ効果計算'!E11,1) -> 1 | M6: 暖房 | N6: =J4*9/1000 -> 0 | O6: =J6*9/1000 -> 0
B8: ■負荷
E9: 単位 | F9: 4月 | G9: 5月 | H9: 6月 | I9: 7月 | J9: 8月 | K9: 9月 | L9: 10月 | M9: 11月 | N9: 12月 | O9: 1月 | P9: 2月 | Q9: 3月 | R9: 合計
B10: a | C10: 日数 | E10: 日 | F10: 30 | G10: 31 | H10: 30 | I10: 31 | J10: 31 | K10: 30 | L10: 31 | M10: 30 | N10: 31 | O10: 31 | P10: 28 | Q10: 31 | R10: =SUM(F10:Q10) -> 365
B11: b | C11: 月間電気使用量 | D11: 更新前負荷*a | E11: kWh | F11: =$N$4*F10/K3 -> 0 | G11: =$N$4*G10/K3 -> 0 | H11: =$N$5*H10/K3 -> 0 | I11: =$N$5*I10/K3 -> 0 | J11: =$N$5*J10/K3 -> 0 | K11: =$N$5*K10/K3 -> 0 | L11: =$N$4*L10/K4 -> 0 | M11: =$N$4*M10/K4 -> 0 | N11: =$N$6*N10/K4 -> 0 | O11: =$N$6*O10/K4 -> 0 | P11: =$N$6*P10/K4 -> 0 | Q11: =$N$4*Q10/K4 -> 0 | R11: =SUM(F11:Q11) -> 0
B12: c | C12: 月間電気使用量 | D12: 更新後負荷*a | E12: kWh | F12: =$N$4*F11/K5 -> 0 | G12: =$N$4*G11/K5 -> 0 | H12: =$O$5*H10/K5 -> 0 | I12: =$O$5*I10/K5 -> 0 | J12: =$O$5*J10/K5 -> 0 | K12: =$O$5*K10/K5 -> 0 | L12: =$O$4*L10/K6 -> 0 | M12: =$O$4*M10/K6 -> 0 | N12: =$O$6*N10/K6 -> 0 | O12: =$O$6*O10/K6 -> 0 | P12: =$O$6*P10/K6 -> 0 | Q12: =$N$4*Q11/K6 -> 0 | R12: =SUM(F12:Q12) -> 0
B14: （１）更新前
E15: 単位 | F15: 4月 | G15: 5月 | H15: 6月 | I15: 7月 | J15: 8月 | K15: 9月 | L15: 10月 | M15: 11月 | N15: 12月 | O15: 1月 | P15: 2月 | Q15: 3月 | R15: 合計
B16: d | C16: CO2排出量 | D16: b*CO2原単位 | E16: kg | F16: =F11*$F$4 -> 0 | G16: =G11*$F$4 -> 0 | H16: =H11*$F$4 -> 0 | I16: =I11*$F$4 -> 0 | J16: =J11*$F$4 -> 0 | K16: =K11*$F$4 -> 0 | L16: =L11*$F$4 -> 0 | M16: =M11*$F$4 -> 0 | ... Q16: =Q11*$F$4 -> 0 | R16: =SUM(F16:Q16) -> 0
B18: （２）更新後
E19: 単位 | F19: 4月 | G19: 5月 | H19: 6月 | I19: 7月 | J19: 8月 | K19: 9月 | L19: 10月 | M19: 11月 | N19: 12月 | O19: 1月 | P19: 2月 | Q19: 3月 | R19: 合計
B20: e | C20: CO2排出量 | D20: c*CO2原単位 | E20: kg | F20: =F12*$F$4 -> 0 | G20: =G12*$F$4 -> 0 | H20: =H12*$F$4 -> 0 | I20: =I12*$F$4 -> 0 | J20: =J12*$F$4 -> 0 | K20: =K12*$F$4 -> 0 | L20: =L12*$F$4 -> 0 | M20: =M12*$F$4 -> 0 | ... Q20: =Q12*$F$4 -> 0 | R20: =SUM(F20:Q20) -> 0

Sheet HV以外詳細試算
B1: ■ エネルギー使用想定
E2: 各種換算係数 | K2: 機器効率（計算シート入力値） | N2: 給湯負荷（JIS C 9220 附属書B）
F3: 低位発熱量 | H3: CO2排出換算係数 | K3: 更新前 | L3: =#REF! -> #REF! | O3: 住宅(3人以下) | P3: 住宅(4人以上) | Q3: 事業者 | R3: 採用値 (MJ/日)
E4: 油 | F4: 36.7 | G4: MJ/Ⅼ | H4: 2.5 | I4: kg-CO2/L | K4: 更新後 | L4: =#REF! -> #REF! | N4: 中間期 | O4: =26.515+1.284 -> 27.799 | P4: =43.473+3.08 -> 46.553 | Q4: =P4*10 -> 465.53 | R4: =IF(#REF!=O3,O4,IF(#REF!=P3,P4,Q4)) -> #REF!
E5: ガス | F5: =ROUND(50.1/0.458,2) -> 109.39 | G5: MJ/㎥ | H5: =ROUND(2.99/0.458,2) -> 6.53 | I5: kg-CO2/㎥ | N5: 夏期 | O5: =18.445+0.776 -> 19.221 | P5: =30.242+1.861 -> 32.103 | Q5: =P5*10 -> 321.03 | R5: =IF(#REF!=O3,O5,IF(#REF!=P3,P5,Q5)) -> #REF!
E6: 電力 | F6: 3.6 | G6: MJ/kWh | H6: 0.37 | I6: kg-CO2/kWh | N6: 冬期 | O6: =35.737+1.734 -> 37.471 | P6: =58.594+4.12 -> 62.714 | Q6: =P6*10 -> 627.14 | R6: =IF(#REF!=O3,O6,IF(#REF!=P3,P6,Q6)) -> #REF!
B8: ■給湯負荷
E9: 単位 | F9: 4月 | G9: 5月 | H9: 6月 | I9: 7月 | J9: 8月 | K9: 9月 | L9: 10月 | M9: 11月 | N9: 12月 | O9: 1月 | P9: 2月 | Q9: 3月 | R9: 合計
B10: a | C10: 日数 | E10: 日 | F10: 30 | G10: 31 | H10: 30 | I10: 31 | J10: 31 | K10: 30 | L10: 31 | M10: 30 | N10: 31 | O10: 31 | P10: 28 | Q10: 31 | R10: =SUM(F10:Q10) -> 365
B11: b | C11: 月間給湯負荷 | D11: 給湯負荷*a | E11: MJ | F11: =$R$4*F10 -> #REF! | G11: =$R$4*G10 -> #REF! | H11: =$R$5*H10 -> #REF! | I11: =$R$5*I10 -> #REF! | J11: =$R$5*J10 -> #REF! | K11: =$R$5*K10 -> #REF! | L11: =$R$4*L10 -> #REF! | M11: =$R$4*M10 -> #REF! | N11: =$R$6*N10 -> #REF! | O11: =$R$6*O10 -> #REF! | P11: =$R$6*P10 -> #REF! | Q11: =$R$6*Q10 -> #REF! | R11: =SUM(F11:Q11) -> #REF!
B13: （１）更新前
B14: =#REF! -> #REF!
E15: 単位 | F15: 4月 | G15: 5月 | H15: 6月 | I15: 7月 | J15: 8月 | K15: 9月 | L15: 10月 | M15: 11月 | N15: 12月 | O15: 1月 | P15: 2月 | Q15: 3月 | R15: 合計
B16: c | C16: 燃料使用量 | D16: b/機器効率/発熱量 | E16: =IF(#REF!="油給湯器","L",IF(#REF!="ガス給湯器","㎥","kWh")) -> #REF! | F16: =IF(#REF!="油給湯器",ROUND(F11/$L$3/$F$4,0),IF(#REF!="ガス給湯器",ROUND(F11/$L$3/$F$5,0),ROUND(F11/$L$3/$F$6,0))) -> #REF! | G16: =IF(#REF!="油給湯器",ROUND(G11/$L$3/$F$4,0),IF(#REF!="ガス給湯器",ROUND(G11/$L$3/$F$5,0),ROUND(G11/$L$3/$F$6,0))) -> #REF! | H16: =IF(#REF!="油給湯器",ROUND(H11/$L$3/$F$4,0),IF(#REF!="ガス給湯器",ROUND(H11/$L$3/$F$5,0),ROUND(H11/$L$3/$F$6,0))) -> #REF! | I16: =IF(#REF!="油給湯器",ROUND(I11/$L$3/$F$4,0),IF(#REF!="ガス給湯器",ROUND(I11/$L$3/$F$5,0),ROUND(I11/$L$3/$F$6,0))) -> #REF! | J16: =IF(#REF!="油給湯器",ROUND(J11/$L$3/$F$4,0),IF(#REF!="ガス給湯器",ROUND(J11/$L$3/$F$5,0),ROUND(J11/$L$3/$F$6,0))) -> #REF! | K16: =IF(#REF!="油給湯器",ROUND(K11/$L$3/$F$4,0),IF(#REF!="ガス給湯器",ROUND(K11/$L$3/$F$5,0),ROUND(K11/$L$3/$F$6,0))) -> #REF! | L16: =IF(#REF!="油給湯器",ROUND(L11/$L$3/$F$4,0),IF(#REF!="ガス給湯器",ROUND(L11/$L$3/$F$5,0),ROUND(L11/$L$3/$F$6,0))) -> #REF! | M16: =IF(#REF!="油給湯器",ROUND(M11/$L$3/$F$4,0),IF(#REF!="ガス給湯器",ROUND(M11/$L$3/$F$5,0),ROUND(M11/$L$3/$F$6,0))) -> #REF! | ... Q16: =IF(#REF!="油給湯器",ROUND(Q11/$L$3/$F$4,0),IF(#REF!="ガス給湯器",ROUND(Q11/$L$3/$F$5,0),ROUND(Q11/$L$3/$F$6,0))) -> #REF! | R16: =SUM(F16:Q16) -> #REF!
B17: d | C17: CO2排出量 | D17: c*CO2原単位 | E17: kg | F17: =IF(#REF!="油給湯器",ROUND(F16*$H$4,0),IF(#REF!="ガス給湯器",ROUND(F16*$H$5,0),ROUND(F16*$H$6,0))) -> #REF! | G17: =IF(#REF!="油給湯器",ROUND(G16*$H$4,0),IF(#REF!="ガス給湯器",ROUND(G16*$H$5,0),ROUND(G16,0))) -> #REF! | H17: =IF(#REF!="油給湯器",ROUND(H16*$H$4,0),IF(#REF!="ガス給湯器",ROUND(H16*$H$5,0),ROUND(H16,0))) -> #REF! | I17: =IF(#REF!="油給湯器",ROUND(I16*$H$4,0),IF(#REF!="ガス給湯器",ROUND(I16*$H$5,0),ROUND(I16,0))) -> #REF! | J17: =IF(#REF!="油給湯器",ROUND(J16*$H$4,0),IF(#REF!="ガス給湯器",ROUND(J16*$H$5,0),ROUND(J16,0))) -> #REF! | K17: =IF(#REF!="油給湯器",ROUND(K16*$H$4,0),IF(#REF!="ガス給湯器",ROUND(K16*$H$5,0),ROUND(K16,0))) -> #REF! | L17: =IF(#REF!="油給湯器",ROUND(L16*$H$4,0),IF(#REF!="ガス給湯器",ROUND(L16*$H$5,0),ROUND(L16,0))) -> #REF! | M17: =IF(#REF!="油給湯器",ROUND(M16*$H$4,0),IF(#REF!="ガス給湯器",ROUND(M16*$H$5,0),ROUND(M16,0))) -> #REF! | N17: =IF(#REF!="油給湯器",ROUND(N16*$H$4,0),IF(#REF!="ガス給湯器",ROUND(N16*$H$5,0),ROUND(N16,0))) -> #REF! | ... Q17: =IF(#REF!="油給湯器",ROUND(Q16*$H$4,0),IF(#REF!="ガス給湯器",ROUND(Q16*$H$5,0),ROUND(Q16,0))) -> #REF! | R17: =SUM(F17:Q17) -> #REF!
B19: （２）更新後
B20: =#REF! -> #REF!
E21: 単位 | F21: 4月 | G21: 5月 | H21: 6月 | I21: 7月 | J21: 8月 | K21: 9月 | L21: 10月 | M21: 11月 | N21: 12月 | O21: 1月 | P21: 2月 | Q21: 3月 | R21: 合計
B22: e | C22: 消費電力量 | D22: b/機器効率/発熱量 | E22: =IF(#REF!="油給湯器","L",IF(#REF!="ガス給湯器","㎥","kWh")) -> #REF! | F22: =IF(#REF!="油給湯器",ROUND(F11/$L$4/$F$4,0),IF(#REF!="ガス給湯器",ROUND(F11/$L$4/$F$5,0),ROUND(F11/$L$4/$F$6,0))) -> #REF! | G22: =IF(#REF!="油給湯器",ROUND(G11/$L$4/$F$4,0),IF(#REF!="ガス給湯器",ROUND(G11/$L$4/$F$5,0),ROUND(G11/$L$4/$F$6,0))) -> #REF! | H22: =IF(#REF!="油給湯器",ROUND(H11/$L$4/$F$4,0),IF(#REF!="ガス給湯器",ROUND(H11/$L$4/$F$5,0),ROUND(H11/$L$4/$F$6,0))) -> #REF! | I22: =IF(#REF!="油給湯器",ROUND(I11/$L$4/$F$4,0),IF(#REF!="ガス給湯器",ROUND(I11/$L$4/$F$5,0),ROUND(I11/$L$4/$F$6,0))) -> #REF! | J22: =IF(#REF!="油給湯器",ROUND(J11/$L$4/$F$4,0),IF(#REF!="ガス給湯器",ROUND(J11/$L$4/$F$5,0),ROUND(J11/$L$4/$F$6,0))) -> #REF! | K22: =IF(#REF!="油給湯器",ROUND(K11/$L$4/$F$4,0),IF(#REF!="ガス給湯器",ROUND(K11/$L$4/$F$5,0),ROUND(K11/$L$4/$F$6,0))) -> #REF! | L22: =IF(#REF!="油給湯器",ROUND(L11/$L$4/$F$4,0),IF(#REF!="ガス給湯器",ROUND(L11/$L$4/$F$5,0),ROUND(L11/$L$4/$F$6,0))) -> #REF! | M22: =IF(#REF!="油給湯器",ROUND(M11/$L$4/$F$4,0),IF(#REF!="ガス給湯器",ROUND(M11/$L$4/$F$5,0),ROUND(M11/$L$4/$F$6,0))) -> #REF! | ... Q22: =IF(#REF!="油給湯器",ROUND(Q11/$L$4/$F$4,0),IF(#REF!="ガス給湯器",ROUND(Q11/$L$4/$F$5,0),ROUND(Q11/$L$4/$F$6,0))) -> #REF! | R22: =SUM(F22:Q22) -> #REF!
B23: f | C23: CO2排出量 | D23: e*CO2原単位 | E23: kg | F23: =IF(#REF!="油給湯器",ROUND(F22*$H$4,0),IF(#REF!="ガス給湯器",ROUND(F22*$H$5,0),ROUND(F22*$H$6,0))) -> #REF! | G23: =IF(#REF!="油給湯器",ROUND(G22*$H$4,0),IF(#REF!="ガス給湯器",ROUND(G22*$H$5,0),ROUND(G22*$H$6,0))) -> #REF! | H23: =IF(#REF!="油給湯器",ROUND(H22*$H$4,0),IF(#REF!="ガス給湯器",ROUND(H22*$H$5,0),ROUND(H22*$H$6,0))) -> #REF! | I23: =IF(#REF!="油給湯器",ROUND(I22*$H$4,0),IF(#REF!="ガス給湯器",ROUND(I22*$H$5,0),ROUND(I22*$H$6,0))) -> #REF! | J23: =IF(#REF!="油給湯器",ROUND(J22*$H$4,0),IF(#REF!="ガス給湯器",ROUND(J22*$H$5,0),ROUND(J22*$H$6,0))) -> #REF! | K23: =IF(#REF!="油給湯器",ROUND(K22*$H$4,0),IF(#REF!="ガス給湯器",ROUND(K22*$H$5,0),ROUND(K22*$H$6,0))) -> #REF! | L23: =IF(#REF!="油給湯器",ROUND(L22*$H$4,0),IF(#REF!="ガス給湯器",ROUND(L22*$H$5,0),ROUND(L22*$H$6,0))) -> #REF! | M23: =IF(#REF!="油給湯器",ROUND(M22*$H$4,0),IF(#REF!="ガス給湯器",ROUND(M22*$H$5,0),ROUND(M22*$H$6,0))) -> #REF! | ... Q23: =IF(#REF!="油給湯器",ROUND(Q22*$H$4,0),IF(#REF!="ガス給湯器",ROUND(Q22*$H$5,0),ROUND(Q22*$H$6,0))) -> #REF! | R23: =SUM(F23:Q23) -> #REF!

Sheet HV詳細試算
B1: ■ エネルギー使用想定
E2: 各種換算係数 | K2: 機器効率（計算シート入力値） | N2: 給湯負荷（JIS C 9220 附属書B）
F3: 低位発熱量 | H3: CO2排出換算係数 | K3: 更新前 | L3: ='様式第１号の11 HV給湯器省エネ効果計算シート'!C13 -> 0.78 | O3: 住宅(3人以下) | P3: 住宅(4人以上) | Q3: 事業者 | R3: 採用値 (MJ/日)
E4: 油 | F4: 36.7 | G4: MJ/Ⅼ | H4: 2.5 | I4: kg-CO2/L | K4: 更新後 | L4: ='様式第１号の11 HV給湯器省エネ効果計算シート'!E13 -> 0.95 | N4: 中間期 | O4: =26.515+1.284 -> 27.799 | P4: =43.473+3.08 -> 46.553 | Q4: =P4*10 -> 465.53 | R4: =IF('様式第１号の11 HV給湯器省エネ効果計算シート'!C6=O3,O4,IF('様式第１号の11 HV給湯器省エネ効果計算シート'!C6=P3,P4,Q4)) -> 27.799
E5: ガス | F5: =ROUND(50.1/0.458,2) -> 109.39 | G5: MJ/㎥ | H5: =ROUND(2.99/0.458,2) -> 6.53 | I5: kg-CO2/㎥ | L5: ='様式第１号の11 HV給湯器省エネ効果計算シート'!E14 -> 5.6 | N5: 夏期 | O5: =18.445+0.776 -> 19.221 | P5: =30.242+1.861 -> 32.103 | Q5: =P5*10 -> 321.03 | R5: =IF('様式第１号の11 HV給湯器省エネ効果計算シート'!C6=O3,O5,IF('様式第１号の11 HV給湯器省エネ効果計算シート'!C6=P3,P5,Q5)) -> 19.221
E6: 電力 | F6: 3.6 | G6: MJ/kWh | H6: 0.37 | I6: kg-CO2/kWh | K6: 比率 | L6: ='様式第１号の11 HV給湯器省エネ効果計算シート'!E15 -> 0.23 | N6: 冬期 | O6: =35.737+1.734 -> 37.471 | P6: =58.594+4.12 -> 62.714 | Q6: =P6*10 -> 627.14 | R6: =IF('様式第１号の11 HV給湯器省エネ効果計算シート'!C6=O3,O6,IF('様式第１号の11 HV給湯器省エネ効果計算シート'!C6=P3,P6,Q6)) -> 37.471
L7: ='様式第１号の11 HV給湯器省エネ効果計算シート'!E16 -> 0.77
B8: ■給湯負荷
E9: 単位 | F9: 4月 | G9: 5月 | H9: 6月 | I9: 7月 | J9: 8月 | K9: 9月 | L9: 10月 | M9: 11月 | N9: 12月 | O9: 1月 | P9: 2月 | Q9: 3月 | R9: 合計
B10: a | C10: 日数 | E10: 日 | F10: 30 | G10: 31 | H10: 30 | I10: 31 | J10: 31 | K10: 30 | L10: 31 | M10: 30 | N10: 31 | O10: 31 | P10: 28 | Q10: 31 | R10: =SUM(F10:Q10) -> 365
B11: b | C11: 月間給湯負荷 | D11: 給湯負荷*a | E11: MJ | F11: =$R$4*F10 -> 833.97 | G11: =$R$4*G10 -> 861.769 | H11: =$R$5*H10 -> 576.63 | I11: =$R$5*I10 -> 595.851 | J11: =$R$5*J10 -> 595.851 | K11: =$R$5*K10 -> 576.63 | L11: =$R$4*L10 -> 861.769 | M11: =$R$4*M10 -> 833.97 | N11: =$R$6*N10 -> 1161.601 | O11: =$R$6*O10 -> 1161.601 | P11: =$R$6*P10 -> 1049.188 | Q11: =$R$6*Q10 -> 1161.601 | R11: =SUM(F11:Q11) -> 10270.431
B13: （１）更新前
B14: ='様式第１号の11 HV給湯器省エネ効果計算シート'!C10 -> ガス給湯器
E15: 単位 | F15: 4月 | G15: 5月 | H15: 6月 | I15: 7月 | J15: 8月 | K15: 9月 | L15: 10月 | M15: 11月 | N15: 12月 | O15: 1月 | P15: 2月 | Q15: 3月 | R15: 合計
B16: c | C16: 使用量 | D16: b/機器効率/発熱量 | E16: =IF('様式第１号の11 HV給湯器省エネ効果計算シート'!$C$10="油給湯器","L",IF('様式第１号の11 HV給湯器省エネ効果計算シート'!$C$10="ガス給湯器","㎥","kWh")) -> ㎥ | F16: =IF('様式第１号の11 HV給湯器省エネ効果計算シート'!$C$10="油給湯器",ROUND(F11/$L$3/$F$4,0),IF('様式第１号の11 HV給湯器省エネ効果計算シート'!$C$10="ガス給湯器",ROUND(F11/$L$3/$F$5,0),ROUND(F11/$L$3/$F$6,0))) -> 10 | G16: =IF('様式第１号の11 HV給湯器省エネ効果計算シート'!$C$10="油給湯器",ROUND(G11/$L$3/$F$4,0),IF('様式第１号の11 HV給湯器省エネ効果計算シート'!$C$10="ガス給湯器",ROUND(G11/$L$3/$F$5,0),ROUND(G11/$L$3/$F$6,0))) -> 10 | H16: =IF('様式第１号の11 HV給湯器省エネ効果計算シート'!$C$10="油給湯器",ROUND(H11/$L$3/$F$4,0),IF('様式第１号の11 HV給湯器省エネ効果計算シート'!$C$10="ガス給湯器",ROUND(H11/$L$3/$F$5,0),ROUND(H11/$L$3/$F$6,0))) -> 7 | I16: =IF('様式第１号の11 HV給湯器省エネ効果計算シート'!$C$10="油給湯器",ROUND(I11/$L$3/$F$4,0),IF('様式第１号の11 HV給湯器省エネ効果計算シート'!$C$10="ガス給湯器",ROUND(I11/$L$3/$F$5,0),ROUND(I11/$L$3/$F$6,0))) -> 7 | J16: =IF('様式第１号の11 HV給湯器省エネ効果計算シート'!$C$10="油給湯器",ROUND(J11/$L$3/$F$4,0),IF('様式第１号の11 HV給湯器省エネ効果計算シート'!$C$10="ガス給湯器",ROUND(J11/$L$3/$F$5,0),ROUND(J11/$L$3/$F$6,0))) -> 7 | K16: =IF('様式第１号の11 HV給湯器省エネ効果計算シート'!$C$10="油給湯器",ROUND(K11/$L$3/$F$4,0),IF('様式第１号の11 HV給湯器省エネ効果計算シート'!$C$10="ガス給湯器",ROUND(K11/$L$3/$F$5,0),ROUND(K11/$L$3/$F$6,0))) -> 7 | L16: =IF('様式第１号の11 HV給湯器省エネ効果計算シート'!$C$10="油給湯器",ROUND(L11/$L$3/$F$4,0),IF('様式第１号の11 HV給湯器省エネ効果計算シート'!$C$10="ガス給湯器",ROUND(L11/$L$3/$F$5,0),ROUND(L11/$L$3/$F$6,0))) -> 10 | M16: =IF('様式第１号の11 HV給湯器省エネ効果計算シート'!$C$10="油給湯器",ROUND(M11/$L$3/$F$4,0),IF('様式第１号の11 HV給湯器省エネ効果計算シート'!$C$10="ガス給湯器",ROUND(M11/$L$3/$F$5,0),ROUND(M11/$L$3/$F$6,0))) -> 10 | ... Q16: =IF('様式第１号の11 HV給湯器省エネ効果計算シート'!$C$10="油給湯器",ROUND(Q11/$L$3/$F$4,0),IF('様式第１号の11 HV給湯器省エネ効果計算シート'!$C$10="ガス給湯器",ROUND(Q11/$L$3/$F$5,0),ROUND(Q11/$L$3/$F$6,0))) -> 14 | R16: =SUM(F16:Q16) -> 122
B17: d | C17: CO2排出量 | D17: c*CO2原単位 | E17: kg | F17: 65 | G17: 65 | H17: 46 | I17: 46 | J17: 46 | K17: 46 | L17: 65 | M17: 65 | N17: 91 | O17: 91 | P17: 78 | Q17: 91 | R17: =SUM(F17:Q17) -> 795
B19: （２）更新後
B20: ='様式第１号の11 HV給湯器省エネ効果計算シート'!E10 -> ハイブリッド給湯器
E21: 単位 | F21: 4月 | G21: 5月 | H21: 6月 | I21: 7月 | J21: 8月 | K21: 9月 | L21: 10月 | M21: 11月 | N21: 12月 | O21: 1月 | P21: 2月 | Q21: 3月 | R21: 合計
B22: e | C22: 使用量 | D22: b/機器効率/発熱量 | E22: =IF('様式第１号の11 HV給湯器省エネ効果計算シート'!$E$10="油給湯器","L",IF('様式第１号の11 HV給湯器省エネ効果計算シート'!$E$10="ガス給湯器","㎥",IF('様式第１号の11 HV給湯器省エネ効果計算シート'!$E$10="ハイブリッド給湯器","㎥","kWh"))) -> ㎥ | F22: =IF('様式第１号の11 HV給湯器省エネ効果計算シート'!$E$10="油給湯器",ROUND(F11/$L$4/$F$4,0),IF('様式第１号の11 HV給湯器省エネ効果計算シート'!$E$10="ガス給湯器",ROUND(F11/$L$4/$F$5,0),IF('様式第１号の11 HV給湯器省エネ効果計算シート'!$E$10="ハイブリッド給湯器",ROUND(F11*$L$6/$L$4/$F$5,0),ROUND(F11/$L$4/$F$6,0)))) -> 2 | G22: =IF('様式第１号の11 HV給湯器省エネ効果計算シート'!$E$10="油給湯器",ROUND(G11/$L$4/$F$4,0),IF('様式第１号の11 HV給湯器省エネ効果計算シート'!$E$10="ガス給湯器",ROUND(G11/$L$4/$F$5,0),IF('様式第１号の11 HV給湯器省エネ効果計算シート'!$E$10="ハイブリッド給湯器",ROUND(G11*$L$6/$L$4/$F$5,0),ROUND(G11/$L$4/$F$6,0)))) -> 2 | H22: =IF('様式第１号の11 HV給湯器省エネ効果計算シート'!$E$10="油給湯器",ROUND(H11/$L$4/$F$4,0),IF('様式第１号の11 HV給湯器省エネ効果計算シート'!$E$10="ガス給湯器",ROUND(H11/$L$4/$F$5,0),IF('様式第１号の11 HV給湯器省エネ効果計算シート'!$E$10="ハイブリッド給湯器",ROUND(H11*$L$6/$L$4/$F$5,0),ROUND(H11/$L$4/$F$6,0)))) -> 1 | I22: =IF('様式第１号の11 HV給湯器省エネ効果計算シート'!$E$10="油給湯器",ROUND(I11/$L$4/$F$4,0),IF('様式第１号の11 HV給湯器省エネ効果計算シート'!$E$10="ガス給湯器",ROUND(I11/$L$4/$F$5,0),IF('様式第１号の11 HV給湯器省エネ効果計算シート'!$E$10="ハイブリッド給湯器",ROUND(I11*$L$6/$L$4/$F$5,0),ROUND(I11/$L$4/$F$6,0)))) -> 1 | J22: =IF('様式第１号の11 HV給湯器省エネ効果計算シート'!$E$10="油給湯器",ROUND(J11/$L$4/$F$4,0),IF('様式第１号の11 HV給湯器省エネ効果計算シート'!$E$10="ガス給湯器",ROUND(J11/$L$4/$F$5,0),IF('様式第１号の11 HV給湯器省エネ効果計算シート'!$E$10="ハイブリッド給湯器",ROUND(J11*$L$6/$L$4/$F$5,0),ROUND(J11/$L$4/$F$6,0)))) -> 1 | K22: =IF('様式第１号の11 HV給湯器省エネ効果計算シート'!$E$10="油給湯器",ROUND(K11/$L$4/$F$4,0),IF('様式第１号の11 HV給湯器省エネ効果計算シート'!$E$10="ガス給湯器",ROUND(K11/$L$4/$F$5,0),IF('様式第１号の11 HV給湯器省エネ効果計算シート'!$E$10="ハイブリッド給湯器",ROUND(K11*$L$6/$L$4/$F$5,0),ROUND(K11/$L$4/$F$6,0)))) -> 1 | L22: =IF('様式第１号の11 HV給湯器省エネ効果計算シート'!$E$10="油給湯器",ROUND(L11/$L$4/$F$4,0),IF('様式第１号の11 HV給湯器省エネ効果計算シート'!$E$10="ガス給湯器",ROUND(L11/$L$4/$F$5,0),IF('様式第１号の11 HV給湯器省エネ効果計算シート'!$E$10="ハイブリッド給湯器",ROUND(L11*$L$6/$L$4/$F$5,0),ROUND(L11/$L$4/$F$6,0)))) -> 2 | M22: =IF('様式第１号の11 HV給湯器省エネ効果計算シート'!$E$10="油給湯器",ROUND(M11/$L$4/$F$4,0),IF('様式第１号の11 HV給湯器省エネ効果計算シート'!$E$10="ガス給湯器",ROUND(M11/$L$4/$F$5,0),IF('様式第１号の11 HV給湯器省エネ効果計算シート'!$E$10="ハイブリッド給湯器",ROUND(M11*$L$6/$L$4/$F$5,0),ROUND(M11/$L$4/$F$6,0)))) -> 2 | ... Q22: =IF('様式第１号の11 HV給湯器省エネ効果計算シート'!$E$10="油給湯器",ROUND(Q11/$L$4/$F$4,0),IF('様式第１号の11 HV給湯器省エネ効果計算シート'!$E$10="ガス給湯器",ROUND(Q11/$L$4/$F$5,0),IF('様式第１号の11 HV給湯器省エネ効果計算シート'!$E$10="ハイブリッド給湯器",ROUND(Q11*$L$6/$L$4/$F$5,0),ROUND(Q11/$L$4/$F$6,0)))) -> 3 | R22: =SUM(F22:Q22) -> 23
B23: e' | E23: =IF('様式第１号の11 HV給湯器省エネ効果計算シート'!$E$10="油給湯器","L",IF('様式第１号の11 HV給湯器省エネ効果計算シート'!$E$10="ガス給湯器","㎥",IF('様式第１号の11 HV給湯器省エネ効果計算シート'!$E$10="ハイブリッド給湯器","kWh","kWh"))) -> kWh | F23: =IF('様式第１号の11 HV給湯器省エネ効果計算シート'!$E$10="ハイブリッド給湯器",ROUND(F11*$L$7/$L$5/$F$6,0),0) -> 32 | G23: =IF('様式第１号の11 HV給湯器省エネ効果計算シート'!$E$10="ハイブリッド給湯器",ROUND(G11*$L$7/$L$5/$F$6,0),0) -> 33 | H23: =IF('様式第１号の11 HV給湯器省エネ効果計算シート'!$E$10="ハイブリッド給湯器",ROUND(H11*$L$7/$L$5/$F$6,0),0) -> 22 | I23: =IF('様式第１号の11 HV給湯器省エネ効果計算シート'!$E$10="ハイブリッド給湯器",ROUND(I11*$L$7/$L$5/$F$6,0),0) -> 23 | J23: =IF('様式第１号の11 HV給湯器省エネ効果計算シート'!$E$10="ハイブリッド給湯器",ROUND(J11*$L$7/$L$5/$F$6,0),0) -> 23 | K23: =IF('様式第１号の11 HV給湯器省エネ効果計算シート'!$E$10="ハイブリッド給湯器",ROUND(K11*$L$7/$L$5/$F$6,0),0) -> 22 | L23: =IF('様式第１号の11 HV給湯器省エネ効果計算シート'!$E$10="ハイブリッド給湯器",ROUND(L11*$L$7/$L$5/$F$6,0),0) -> 33 | M23: =IF('様式第１号の11 HV給湯器省エネ効果計算シート'!$E$10="ハイブリッド給湯器",ROUND(M11*$L$7/$L$5/$F$6,0),0) -> 32 | ... Q23: =IF('様式第１号の11 HV給湯器省エネ効果計算シート'!$E$10="ハイブリッド給湯器",ROUND(Q11*$L$7/$L$5/$F$6,0),0) -> 44 | R23: =SUM(F23:Q23) -> 392
B24: f | C24: CO2排出量 | D24: e*CO2原単位 | E24: kg | F24: 25 | G24: 25 | H24: 15 | I24: 15 | J24: 15 | K24: 15 | L24: 25 | M24: 25 | N24: 36 | O24: 36 | P24: 28 | Q24: 36 | R24: =SUM(F24:Q24) -> 296
